BEGIN:VCALENDAR
VERSION:2.0
PRODID:-//eventon.com NONSGML v1.0//EN
CALSCALE:GREGORIAN
METHOD:PUBLISH
BEGIN:VEVENT
UID:69e9e66d622a9
DTSTAMP:20260423T092917Z
DTSTART:20260227T220000Z
DTEND:20260228T040000Z
LOCATION:Die Rakete | NÜRNBERG
SUMMARY:Rune
DESCRIPTION:Miss Sire Luvana Struktor SND Tesk? Leon P Chez Marie Fedu Waka
 i Blankenheim Ennya\nhttps://www.theclubmap.com/events/rune/
URL:https://www.theclubmap.com/events/rune/
END:VEVENT
END:VCALENDAR