BEGIN:VCALENDAR
VERSION:2.0
PRODID:-//eventon.com NONSGML v1.0//EN
CALSCALE:GREGORIAN
METHOD:PUBLISH
BEGIN:VEVENT
UID:69e4c96f42303
DTSTAMP:20260419T122415Z
DTSTART:20260228T220000Z
DTEND:20260301T080000Z
LOCATION:OXI Wiesenweg 1-4\,  10365 Berlin
SUMMARY:Hakke Berlin - 'The Nu-Gabberz'
DESCRIPTION:VILAIN Taypohoon Der Schaffner FLUCC vs m4tsch1 Ema Leo LØUS I
 ceLipzz Olmatri vs Discojochen Rumpelstilzchen b2b Clitschnass CIAO! Dagobi
 rd Parasit Osiris (2) b2b Tonezz DJ Arschwasser (Vinyl) Trash Fucker(Vinyl)
  daschka (Vinyl)\nhttps://www.theclubmap.com/events/hakke-berlin-the-nu-gab
 berz/
URL:https://www.theclubmap.com/events/hakke-berlin-the-nu-gabberz/
END:VEVENT
END:VCALENDAR