BEGIN:VCALENDAR
VERSION:2.0
PRODID:-//eventon.com NONSGML v1.0//EN
CALSCALE:GREGORIAN
METHOD:PUBLISH
BEGIN:VEVENT
UID:69e74f03e9c07
DTSTAMP:20260421T101843Z
DTSTART:20260227T210000Z
DTEND:20260228T080000Z
LOCATION:Tanzhaus West | FRANKFURT
SUMMARY:Hard Bock DRAUF
DESCRIPTION:CLTXStan ChristJayronDeGuzmanExtasoMichael KlotzParanormilaThe 
 Belgian StallionBMEDRKNSSÉTIENNEJosh Yob.NishaTCHNKND\nhttps://www.theclub
 map.com/events/hard-bock-drauf-pres-cltx-stan-christ-jayron-uvm-2/
URL:https://www.theclubmap.com/events/hard-bock-drauf-pres-cltx-stan-christ-jayron-uvm-2/
END:VEVENT
END:VCALENDAR