BEGIN:VCALENDAR
VERSION:2.0
PRODID:-//eventon.com NONSGML v1.0//EN
CALSCALE:GREGORIAN
METHOD:PUBLISH
BEGIN:VEVENT
UID:69e7739e743a0
DTSTAMP:20260421T125454Z
DTSTART:20260306T190000Z
DTEND:20260307T030000Z
LOCATION:Kesselhaus | MUNCHEN
SUMMARY:Lilly Palmer Album Release Party
DESCRIPTION:Lilly Palmer Support A-Z: A.D.H.S. Gregor Tresher Jose Bonetto 
 Karotte LeStrange\nhttps://www.theclubmap.com/events/lilly-palmer-album-rel
 ease-party/
URL:https://www.theclubmap.com/events/lilly-palmer-album-release-party/
END:VEVENT
END:VCALENDAR