BEGIN:VCALENDAR
VERSION:2.0
PRODID:-//eventon.com NONSGML v1.0//EN
CALSCALE:GREGORIAN
METHOD:PUBLISH
BEGIN:VEVENT
UID:69e4bfb4df513
DTSTAMP:20260419T114244Z
DTSTART:20260306T225900Z
DTEND:20260307T040000Z
LOCATION:Backstage | MÜNCHEN
SUMMARY:Subset with Netsky
DESCRIPTION:Netsky goddard.\nhttps://www.theclubmap.com/events/subset-with-
 netsky/
URL:https://www.theclubmap.com/events/subset-with-netsky/
END:VEVENT
END:VCALENDAR