BEGIN:VCALENDAR
VERSION:2.0
PRODID:-//eventon.com NONSGML v1.0//EN
CALSCALE:GREGORIAN
METHOD:PUBLISH
BEGIN:VEVENT
UID:69e9d6b9adafd
DTSTAMP:20260423T082217Z
DTSTART:20260313T220000Z
DTEND:20260314T070000Z
LOCATION:BLITZ Club | MÜNCHEN
SUMMARY:BLITZ with Aurora Halal\,  Priori\,  Victor
DESCRIPTION:BLITZ Aurora Halal [Mutual Dreaming] Priori [naff recordings] V
 ictor [Magic Power]\nhttps://www.theclubmap.com/events/blitz-with-aurora-ha
 lal-priori-victor/
URL:https://www.theclubmap.com/events/blitz-with-aurora-halal-priori-victor/
END:VEVENT
END:VCALENDAR