BEGIN:VCALENDAR
VERSION:2.0
PRODID:-//eventon.com NONSGML v1.0//EN
CALSCALE:GREGORIAN
METHOD:PUBLISH
BEGIN:VEVENT
UID:69e887e889c05
DTSTAMP:20260422T083344Z
DTSTART:20260320T220000Z
DTEND:20260321T030000Z
LOCATION:Backstage | MÜNCHEN
SUMMARY:Hotbox Session
DESCRIPTION:antyo b2b Arkinice Terzenbreaker b2b Mark Wenz Tona Jane Millet
  LOOMINAS\nhttps://www.theclubmap.com/events/hotbox-session-2/
URL:https://www.theclubmap.com/events/hotbox-session-2/
END:VEVENT
END:VCALENDAR