BEGIN:VCALENDAR
VERSION:2.0
PRODID:-//eventon.com NONSGML v1.0//EN
CALSCALE:GREGORIAN
METHOD:PUBLISH
BEGIN:VEVENT
UID:69e774ba531f7
DTSTAMP:20260421T125938Z
DTSTART:20260306T220000Z
DTEND:20260307T070000Z
LOCATION:Schrotty | KÖLN
SUMMARY:BZZBZZ TECHNO X MILLIAMPERE
DESCRIPTION:Paralich DJ HÖRDE Eurodance2000 SPEEDO (2) YËDM Athina Shemm 
 Pamela Rave HENNESY PANA (Ger)\nhttps://www.theclubmap.com/events/bzzbzz-te
 chno-x-milliampere/
URL:https://www.theclubmap.com/events/bzzbzz-techno-x-milliampere/
END:VEVENT
END:VCALENDAR