BEGIN:VCALENDAR
VERSION:2.0
PRODID:-//eventon.com NONSGML v1.0//EN
CALSCALE:GREGORIAN
METHOD:PUBLISH
BEGIN:VEVENT
UID:69e74f08e1b30
DTSTAMP:20260421T101848Z
DTSTART:20260306T220000Z
DTEND:20260307T050000Z
LOCATION:Helios37 | KÖLN
SUMMARY:akt Party
DESCRIPTION:KLARYOKO sellycious juno.j B2B alleira Loreley Rivers\nhttps://
 www.theclubmap.com/events/akt-party-2/
URL:https://www.theclubmap.com/events/akt-party-2/
END:VEVENT
END:VCALENDAR