BEGIN:VCALENDAR
VERSION:2.0
PRODID:-//eventon.com NONSGML v1.0//EN
CALSCALE:GREGORIAN
METHOD:PUBLISH
BEGIN:VEVENT
UID:69e73e1b8a0ae
DTSTAMP:20260421T090635Z
DTSTART:20260321T200000Z
DTEND:20260322T030000Z
LOCATION:Club Z im Zimmermanns | KÖLN
SUMMARY:Bunteskulturamt
DESCRIPTION:alice gas 99jakes Phillip Jondo Mathis Ruffing ophilia Xeon oge
 r dj deepstate\nhttps://www.theclubmap.com/events/bunteskulturamt/
URL:https://www.theclubmap.com/events/bunteskulturamt/
END:VEVENT
END:VCALENDAR