BEGIN:VCALENDAR
VERSION:2.0
PRODID:-//eventon.com NONSGML v1.0//EN
CALSCALE:GREGORIAN
METHOD:PUBLISH
BEGIN:VEVENT
UID:69e73d8a95b07
DTSTAMP:20260421T090410Z
DTSTART:20260321T220000Z
DTEND:20260322T080000Z
LOCATION:Tanzhaus West | FRANKFURT
SUMMARY:Kuddelmuddel bei Nacht
DESCRIPTION:Einklang e.V. Syntrophie Storno Clouds Astral Club Cherry Stoff
 wechsel Kollektiv Peer23 e.V. KleinLaut\nhttps://www.theclubmap.com/events/
 kuddelmuddel-bei-nacht-6/
URL:https://www.theclubmap.com/events/kuddelmuddel-bei-nacht-6/
END:VEVENT
END:VCALENDAR