BEGIN:VCALENDAR
VERSION:2.0
PRODID:-//eventon.com NONSGML v1.0//EN
CALSCALE:GREGORIAN
METHOD:PUBLISH
BEGIN:VEVENT
UID:69e77a110d286
DTSTAMP:20260421T132225Z
DTSTART:20260307T180000Z
DTEND:20260308T225900Z
LOCATION:ZiMMT e.V. | LEIPZIG
SUMMARY:Global Listening Day x Artist in Residency showing
DESCRIPTION:Lenka Adamcová &#038; Martin Ožvold\nhttps://www.theclubmap.c
 om/events/global-listening-day-x-artist-in-residency-showing/
URL:https://www.theclubmap.com/events/global-listening-day-x-artist-in-residency-showing/
END:VEVENT
END:VCALENDAR