BEGIN:VCALENDAR
VERSION:2.0
PRODID:-//eventon.com NONSGML v1.0//EN
CALSCALE:GREGORIAN
METHOD:PUBLISH
BEGIN:VEVENT
UID:69e762c61d43b
DTSTAMP:20260421T114302Z
DTSTART:20260313T210000Z
DTEND:20260314T040000Z
LOCATION:Z-Bau | NÜRNBERG
SUMMARY:Nbg808
DESCRIPTION:DJ Egoshooter 10000 Anya Yen Hellhoundz\nhttps://www.theclubmap
 .com/events/nbg808/
URL:https://www.theclubmap.com/events/nbg808/
END:VEVENT
END:VCALENDAR