BEGIN:VCALENDAR
VERSION:2.0
PRODID:-//eventon.com NONSGML v1.0//EN
CALSCALE:GREGORIAN
METHOD:PUBLISH
BEGIN:VEVENT
UID:69e74096d1abe
DTSTAMP:20260421T091710Z
DTSTART:20260314T220000Z
DTEND:20260315T040000Z
LOCATION:Airport Würzburg
SUMMARY:DEVOTED x AIRPORT
DESCRIPTION:Anuuk DonChoppa Cara Elizabeth IGDA Josh Yob. Paranormila KØ:L
 AB LILLIVEE Mantraa Marcare Tollkühn\nhttps://www.theclubmap.com/events/de
 voted-x-airport/
URL:https://www.theclubmap.com/events/devoted-x-airport/
END:VEVENT
END:VCALENDAR