BEGIN:VCALENDAR
VERSION:2.0
PRODID:-//eventon.com NONSGML v1.0//EN
CALSCALE:GREGORIAN
METHOD:PUBLISH
BEGIN:VEVENT
UID:69e73d525391c
DTSTAMP:20260421T090314Z
DTSTART:20260314T220000Z
DTEND:20260315T060000Z
LOCATION:Indiego Glocksee | HANNOVER
SUMMARY:BLACKOUT
DESCRIPTION:DAMN DANIELS DELlRlUM b2b SÆPHR DISORDER Dunkle Verdammnis FIZ
 ZE HTRX MIJAH TOMA\nhttps://www.theclubmap.com/events/blackout/
URL:https://www.theclubmap.com/events/blackout/
END:VEVENT
END:VCALENDAR