BEGIN:VCALENDAR
VERSION:2.0
PRODID:-//eventon.com NONSGML v1.0//EN
CALSCALE:GREGORIAN
METHOD:PUBLISH
BEGIN:VEVENT
UID:69e73e002f5c2
DTSTAMP:20260421T090608Z
DTSTART:20260326T220000Z
DTEND:20260327T060000Z
LOCATION:OXI Wiesenweg 1-4\,  10365 Berlin
SUMMARY:Amsterdam Techno Records
DESCRIPTION:&#8222;ATR is about the music. Our artists deliver pure\,  unde
 rground techno from Amsterdam &#038; Berlin combined: Dark\,  Raw\,  Real. 
 No filters\,  no cameras\,  massive cool venues\,  ravers\,  artists\,  sou
 nd and lights.” Get ready for our next nightrave on Thursday 26 March in 
 OXI\,  where the spirit of the underground sounds[..]\nhttps://www.theclubm
 ap.com/events/amsterdam-techno-records-and-oxi-on-thursdays-amsterdam-and-b
 erlin/
URL:https://www.theclubmap.com/events/amsterdam-techno-records-and-oxi-on-thursdays-amsterdam-and-berlin/
END:VEVENT
END:VCALENDAR