BEGIN:VCALENDAR
VERSION:2.0
PRODID:-//eventon.com NONSGML v1.0//EN
CALSCALE:GREGORIAN
METHOD:PUBLISH
BEGIN:VEVENT
UID:69e73c266d36e
DTSTAMP:20260421T085814Z
DTSTART:20260416T210000Z
DTEND:20260417T050000Z
LOCATION:OXI Wiesenweg 1-4\,  10365 Berlin
SUMMARY:Amsterdam Techno Records
DESCRIPTION:&#8222;ATR is about the music. Our artists deliver pure\,  unde
 rground techno from Amsterdam &#038; Berlin combined: Dark\,  Raw\,  Real. 
 No filters\,  no cameras\,  massive cool venues\,  ravers\,  artists\,  sou
 nd and lights.” Get ready for our next nightrave on Thursday 16 April in 
 OXI\,  where the spirit of the underground sounds[..]\nhttps://www.theclubm
 ap.com/events/amsterdam-techno-records-and-oxi-on-thursdays-amsterdam-and-b
 erlin-2/
URL:https://www.theclubmap.com/events/amsterdam-techno-records-and-oxi-on-thursdays-amsterdam-and-berlin-2/
END:VEVENT
END:VCALENDAR