BEGIN:VCALENDAR
VERSION:2.0
PRODID:-//eventon.com NONSGML v1.0//EN
CALSCALE:GREGORIAN
METHOD:PUBLISH
BEGIN:VEVENT
UID:69e73d5c54f11
DTSTAMP:20260421T090324Z
DTSTART:20260919T200000Z
DTEND:20260920T030000Z
LOCATION:KIR | HAMBURG
SUMMARY:Edgecrusher
DESCRIPTION:Willkommen zur härtesten Party Hamburgs! Wer nicht schwitzt ha
 t zu wenig getanzt. Kann nicht sein bei “Edgecrusher” im KIR. Hier werd
 et Ihr ordentlich auf Trab gehalten zu u.a. New metal\,  Metalcore\,  Melod
 ic death und allem was heavy und tanzbar ist. Wenn sich einen Tag später E
 uer Muskelkater dankbar meldet\,  dann[..]\nhttps://www.theclubmap.com/even
 ts/edgecrusher-6/
URL:https://www.theclubmap.com/events/edgecrusher-6/
END:VEVENT
END:VCALENDAR