BEGIN:VCALENDAR
VERSION:2.0
PRODID:-//eventon.com NONSGML v1.0//EN
CALSCALE:GREGORIAN
METHOD:PUBLISH
BEGIN:VEVENT
UID:69e73df76a380
DTSTAMP:20260421T090559Z
DTSTART:20260321T213000Z
DTEND:20260321T120000Z
LOCATION:GrooveStation | DRESDEN
SUMMARY:the 80s TOTAL - NEON dance
DESCRIPTION:Neon glänzendes Spandex in der Nacht. Pink flackerndes Licht e
 rschafft Silhouetten. Röhren knistern wie analoge Synthesizer. Ein Tanz. S
 ounds like a melody. Sounds like: Depeche Mode\,  Eurythmics\,  Madonna\,  
 The Cure\,  Mysterious Art\,  Alphaville\,  Flirts\,  Cyndi Lauper\,  Bonni
 e Tyler\,  Visage\,  Blondie\,  Talk Talk\,  A-HA\,  Soft Cell\,  Queen\,  
 Prince\,  Grandmaster Flash\,  Lime\, [..]\nhttps://www.theclubmap.com/even
 ts/the-80s-total-neon-dance/
URL:https://www.theclubmap.com/events/the-80s-total-neon-dance/
END:VEVENT
END:VCALENDAR