BEGIN:VCALENDAR
VERSION:2.0
PRODID:-//eventon.com NONSGML v1.0//EN
CALSCALE:GREGORIAN
METHOD:PUBLISH
BEGIN:VEVENT
UID:69e5e3bb14081
DTSTAMP:20260420T082843Z
DTSTART:20260319T220000Z
DTEND:20260319T060000Z
LOCATION:Der Weiße Hase Revaler Str 99\,  10245 Berlin
SUMMARY:STRAFF / Thursday Techno / 5€ entry until 1 AM
DESCRIPTION:STRAFF – Thursday Techno Thursday\,  19 March 2026 · 23:00 D
 er Weiße Hase · Berlin Lineup: Emma\,  Technovabader\,  Project Nebula ST
 RAFF steht für straffen Techno\,  straffe Leute\,  straffe Drinks\,  straf
 f fairer Eintritt. 5€ entry until 1 AM No dresscode just vibes… Einfach
  feiern. @ Tempel Techno. @ Anne Bar House[..]\nhttps://www.theclubmap.com/
 events/straff-thursday-techno-5e-entry-until-1-am/
URL:https://www.theclubmap.com/events/straff-thursday-techno-5e-entry-until-1-am/
END:VEVENT
END:VCALENDAR