BEGIN:VCALENDAR
VERSION:2.0
PRODID:-//eventon.com NONSGML v1.0//EN
CALSCALE:GREGORIAN
METHOD:PUBLISH
BEGIN:VEVENT
UID:69e63a0107dea
DTSTAMP:20260420T143649Z
DTSTART:20260410T200000Z
DTEND:20260411T040000Z
LOCATION:Coco Boule Prinzenstraße 85/D-F\,  10969 Berlin
SUMMARY:EKG x Veinyl
DESCRIPTION:EKG x Veinyl\nhttps://www.theclubmap.com/events/ekg-x-veinyl/
URL:https://www.theclubmap.com/events/ekg-x-veinyl/
END:VEVENT
END:VCALENDAR