BEGIN:VCALENDAR
VERSION:2.0
PRODID:-//eventon.com NONSGML v1.0//EN
CALSCALE:GREGORIAN
METHOD:PUBLISH
BEGIN:VEVENT
UID:69e761d93f96c
DTSTAMP:20260421T113905Z
DTSTART:20260418T215900Z
DTEND:20260419T040000Z
LOCATION:Silbergold | FRANKFURT
SUMMARY:Presto: Pasch\,  D-licious\,  MC Mantiz & MC Dressla
DESCRIPTION:Drum &#038; Bass 23:59 | 12€ | Students/pupils/trainees 7€ 
 D-licious Pasch MC Mantiz Doc Dressla Family time at this edition of Presto
 . The quartet consisting of the two DJs D-licious and Pasch and the two MCs
  Mantiz and Doc Dressla take over Silbergold for a another night full of es
 sential[..]\nhttps://www.theclubmap.com/events/presto-pasch-d-licious-mc-ma
 ntiz-mc-dressla-3/
URL:https://www.theclubmap.com/events/presto-pasch-d-licious-mc-mantiz-mc-dressla-3/
END:VEVENT
END:VCALENDAR