BEGIN:VCALENDAR
VERSION:2.0
PRODID:-//eventon.com NONSGML v1.0//EN
CALSCALE:GREGORIAN
METHOD:PUBLISH
BEGIN:VEVENT
UID:69e5fb8d31f51
DTSTAMP:20260420T101021Z
DTSTART:20260417T200000Z
DTEND:20260418T040000Z
LOCATION:Mojo Club | HAMBURG
SUMMARY:Andy C at Mojo Club   Special Guests
DESCRIPTION:Andy C  Polyphonic (DJ Live Set) duaba Eightball  Fibe  Sind
 icate  Madline IAM (2)\nhttps://www.theclubmap.com/events/andy-c-at-mojo-c
 lub-special-guests/
URL:https://www.theclubmap.com/events/andy-c-at-mojo-club-special-guests/
END:VEVENT
END:VCALENDAR