BEGIN:VCALENDAR
VERSION:2.0
PRODID:-//eventon.com NONSGML v1.0//EN
CALSCALE:GREGORIAN
METHOD:PUBLISH
BEGIN:VEVENT
UID:69e5e41d5038b
DTSTAMP:20260420T083021Z
DTSTART:20260418T200000Z
DTEND:20260419T050000Z
LOCATION:Golden Pudel | HAMBURG
SUMMARY:GOME   The Gang with Carlos Valdes
DESCRIPTION:Carlos Valdes  GOME\nhttps://www.theclubmap.com/events/gome-th
 e-gang-with-carlos-valdes/
URL:https://www.theclubmap.com/events/gome-the-gang-with-carlos-valdes/
END:VEVENT
END:VCALENDAR