BEGIN:VCALENDAR
VERSION:2.0
PRODID:-//eventon.com NONSGML v1.0//EN
CALSCALE:GREGORIAN
METHOD:PUBLISH
BEGIN:VEVENT
UID:69e5e4172a746
DTSTAMP:20260420T083015Z
DTSTART:20260418T210000Z
DTEND:20260419T030000Z
LOCATION:Fundbureau | HAMBURG
SUMMARY:AOTM ALLSTARS X Fundbureau
DESCRIPTION:Alberto Adami Alith Berndarn B2B Henry (2) Bane bovt. Leon Prec
 ek B2B JASHTECH TZO (1) VIĆERO B2B rodmor VIRGIN!A\nhttps://www.theclubmap
 .com/events/aotm-allstars-x-fundbureau/
URL:https://www.theclubmap.com/events/aotm-allstars-x-fundbureau/
END:VEVENT
END:VCALENDAR