BEGIN:VCALENDAR
VERSION:2.0
PRODID:-//eventon.com NONSGML v1.0//EN
CALSCALE:GREGORIAN
METHOD:PUBLISH
BEGIN:VEVENT
UID:69e5e433a00ee
DTSTAMP:20260420T083043Z
DTSTART:20260418T180000Z
DTEND:20260419T040000Z
LOCATION:Baalsaal | HAMBURG
SUMMARY:TWINK DEATH — 30 YEARS D.GTLE × DJ UNROMANTIC
DESCRIPTION:TWINK DEATH — 30 YEARS D.GTLE × DJ UNROMANTIC On April 18\, 
  2026\,  we celebrate the official twink death — and the rebirth on the d
 ancefloor. D.GTLE and DJ UNROMANTIC take over the Baalsaal for a night of b
 ouncy techno. Expect strobes\,  sweat and heavy low-end pressure. No nostal
 gia. No[..]\nhttps://www.theclubmap.com/events/twink-death-30-years-d-gtle-
 x-dj-unromantic/
URL:https://www.theclubmap.com/events/twink-death-30-years-d-gtle-x-dj-unromantic/
END:VEVENT
END:VCALENDAR