BEGIN:VCALENDAR
VERSION:2.0
PRODID:-//eventon.com NONSGML v1.0//EN
CALSCALE:GREGORIAN
METHOD:PUBLISH
BEGIN:VEVENT
UID:69e5e49f6d3aa
DTSTAMP:20260420T083231Z
DTSTART:20260417T200000Z
DTEND:20260418T050000Z
LOCATION:Pimpernel | MÜNCHEN
SUMMARY:Pimpernel All Night Long
DESCRIPTION:Tofu&#038;Acid  Exit Scam Records\nhttps://www.theclubmap.com/
 events/pimpernel-all-night-long-58/
URL:https://www.theclubmap.com/events/pimpernel-all-night-long-58/
END:VEVENT
END:VCALENDAR