BEGIN:VCALENDAR
VERSION:2.0
PRODID:-//eventon.com NONSGML v1.0//EN
CALSCALE:GREGORIAN
METHOD:PUBLISH
BEGIN:VEVENT
UID:69e7891c5def0
DTSTAMP:20260421T142636Z
DTSTART:20260417T210000Z
DTEND:20260418T043000Z
LOCATION:Zoom Club | FRANKFURT
SUMMARY:FACE 2 FACE - FRANKFURT WEEKENDER
DESCRIPTION:17/04: Schrotthagen F2F Cleopard2000 F2F Prossowski  JAZZY F
 2F Negativ  Jozh AEMN  SLOPEZZ  18/04 Adrian Mills F2F Serafina  A.N.
 I. F2F KX CHR  KOTORRI F2F Katy Rough  In Furcht F2F Nachtigaller  Hee
 pmann\nhttps://www.theclubmap.com/events/face-2-face-frankfurt-weekender/
URL:https://www.theclubmap.com/events/face-2-face-frankfurt-weekender/
END:VEVENT
END:VCALENDAR