BEGIN:VCALENDAR
VERSION:2.0
PRODID:-//eventon.com NONSGML v1.0//EN
CALSCALE:GREGORIAN
METHOD:PUBLISH
BEGIN:VEVENT
UID:69e776cdbda5e
DTSTAMP:20260421T130829Z
DTSTART:20260417T210000Z
DTEND:20260418T030000Z
LOCATION:Elfer | FRANKFURT
SUMMARY:QUEER EXTRAVAGANZA by Qrave Events
DESCRIPTION:Acidine  The Belgian Stallion  Nasstie Deysie\nhttps://www.th
 eclubmap.com/events/queer-extravaganza-by-qrave-events/
URL:https://www.theclubmap.com/events/queer-extravaganza-by-qrave-events/
END:VEVENT
END:VCALENDAR