BEGIN:VCALENDAR
VERSION:2.0
PRODID:-//eventon.com NONSGML v1.0//EN
CALSCALE:GREGORIAN
METHOD:PUBLISH
BEGIN:VEVENT
UID:69e73e0b33fc0
DTSTAMP:20260421T090619Z
DTSTART:20260417T215900Z
DTEND:20260418T040000Z
LOCATION:Silbergold | FRANKFURT
SUMMARY:S3XI
DESCRIPTION:Beatina Chris Ku  Monsieur Vide Freakwensy\nhttps://www.theclu
 bmap.com/events/s3xi/
URL:https://www.theclubmap.com/events/s3xi/
END:VEVENT
END:VCALENDAR