BEGIN:VCALENDAR
VERSION:2.0
PRODID:-//eventon.com NONSGML v1.0//EN
CALSCALE:GREGORIAN
METHOD:PUBLISH
BEGIN:VEVENT
UID:69e73fea5066d
DTSTAMP:20260421T091418Z
DTSTART:20260418T210000Z
DTEND:20260419T090000Z
LOCATION:Tanzhaus West | FRANKFURT
SUMMARY:COLOURS with Teenage Mutants & others
DESCRIPTION:Teenage Mutants NoNameLeft Tocadisco TraumaMia Eric Wishes Tom 
 Schön Jonas Neo Yannick Möbius Flo Circus Alex D-Part Ariane Nova Anna Ja
 hn\nhttps://www.theclubmap.com/events/colours-with-teenage-mutants-others-2
 /
URL:https://www.theclubmap.com/events/colours-with-teenage-mutants-others-2/
END:VEVENT
END:VCALENDAR