BEGIN:VCALENDAR
VERSION:2.0
PRODID:-//eventon.com NONSGML v1.0//EN
CALSCALE:GREGORIAN
METHOD:PUBLISH
BEGIN:VEVENT
UID:69e74e18c1b83
DTSTAMP:20260421T101448Z
DTSTART:20260418T215900Z
DTEND:20260419T040000Z
LOCATION:Silbergold | FRANKFURT
SUMMARY:Presto
DESCRIPTION:Pasch  D-licious MC Mantiz Doc Dressla\nhttps://www.theclubmap
 .com/events/presto-2/
URL:https://www.theclubmap.com/events/presto-2/
END:VEVENT
END:VCALENDAR