BEGIN:VCALENDAR
VERSION:2.0
PRODID:-//eventon.com NONSGML v1.0//EN
CALSCALE:GREGORIAN
METHOD:PUBLISH
BEGIN:VEVENT
UID:69e712a235e35
DTSTAMP:20260421T060106Z
DTSTART:20260514T160000Z
DTEND:20260516T215900Z
LOCATION:0 Festival
SUMMARY:Desertfest Berlin (Metal/Rock)
DESCRIPTION:Desertfest Berlin takes place in the neighbouring concert venue
 s “Columbiahalle” &amp; “Columbia Theater” in Berlin Kreuzberg. Aci
 d King (US) Blackwater Holylight (US) Cardiel (US) causa sui (DK) Crippled 
 Black Phoenix (SE) Dope Purple (TW) Earthless (US) EF (SE) Fomies (CH) Fuzz
  Sagrado (DE) Greenleaf (SE) Gumm (US) Hermano (US) High[..]\nhttps://www.t
 heclubmap.com/events/desertfest-berlin-metal-rock/
URL:https://www.theclubmap.com/events/desertfest-berlin-metal-rock/
END:VEVENT
END:VCALENDAR