BEGIN:VCALENDAR
VERSION:2.0
PRODID:-//eventon.com NONSGML v1.0//EN
CALSCALE:GREGORIAN
METHOD:PUBLISH
BEGIN:VEVENT
UID:69e967cba1e16
DTSTAMP:20260423T002859Z
DTSTART:20260430T200000Z
DTEND:20260501T020000Z
LOCATION:GrooveStation | DRESDEN
SUMMARY:TENSION by Mosaik Kollektiv
DESCRIPTION:Pulsierender Bass\,  treibende Rythmen und hypnotische Sounds z
 iehen dich in ihren Bann. Du schwebst auf dem Dancefloor und wartest ekstat
 isch auf mehr. Tension. Timetable: 22:00-23:30 @_lozaro b2b @ricorozefrech_
  23:30-01:00 @jun___choi 01:00-02:30 @_druckausgleich_ 02:30-04:00 @ruhesto
 erung.music b2b @kiwi.groove #techno Wir tolerieren keine Art der Diskrimie
 rung!\nhttps://www.theclubmap.com/events/tension-by-mosaik-kollektiv/
URL:https://www.theclubmap.com/events/tension-by-mosaik-kollektiv/
END:VEVENT
END:VCALENDAR