BEGIN:VCALENDAR
VERSION:2.0
PRODID:-//eventon.com NONSGML v1.0//EN
CALSCALE:GREGORIAN
METHOD:PUBLISH
BEGIN:VEVENT
UID:69e8ac30737b9
DTSTAMP:20260422T110832Z
DTSTART:20260424T210000Z
DTEND:20260425T060000Z
LOCATION:Baalsaal | HAMBURG
SUMMARY:(Postponed to April 25th) STCTRS w/ Vinicius Honorio\,  ROOB\,  Elvin
DESCRIPTION:ROOB Elvin Vinicius Honorio\nhttps://www.theclubmap.com/events/
 postponed-to-april-25th-stctrs-w-vinicius-honorio-roob-elvin/
URL:https://www.theclubmap.com/events/postponed-to-april-25th-stctrs-w-vinicius-honorio-roob-elvin/
END:VEVENT
END:VCALENDAR