BEGIN:VCALENDAR
VERSION:2.0
PRODID:-//eventon.com NONSGML v1.0//EN
CALSCALE:GREGORIAN
METHOD:PUBLISH
BEGIN:VEVENT
UID:69e8ac39d315c
DTSTAMP:20260422T110841Z
DTSTART:20260424T210000Z
DTEND:20260425T050000Z
LOCATION:Beat Boutique | HAMBURG
SUMMARY:ONCE UPON A TIME
DESCRIPTION:TRYPTAJ // Merve b2b Tjark // vibemeister // Goatchu // sabenzz
 zo // Shilo\nhttps://www.theclubmap.com/events/once-upon-a-time/
URL:https://www.theclubmap.com/events/once-upon-a-time/
END:VEVENT
END:VCALENDAR