BEGIN:VCALENDAR
VERSION:2.0
PRODID:-//eventon.com NONSGML v1.0//EN
CALSCALE:GREGORIAN
METHOD:PUBLISH
BEGIN:VEVENT
UID:69e8ad5433dbe
DTSTAMP:20260422T111324Z
DTSTART:20260424T210000Z
DTEND:20260425T100000Z
LOCATION:Südpol Club | HAMBURG
SUMMARY:unceen x Synthetic Love x Nonchalance with Justin Jay\,  DJ SPORTSCHUH & Montezuma LIVE
DESCRIPTION:Justin Jay  Montezuma (DE) LIVE DJ SPORTSCHUH  Jean Mauj  M
 ATHILDA (2) &#038; Carluschka (Schwesta2Schwesta) CLARA  KLARYOKO  &#0
 38; DJ Pinky Promise  MC1R &#038; Aux Romatic Zulu aka Nineone SPORTMANN
  / Worthmann co:co  Linh (2)  Arninho\nhttps://www.theclubmap.com/events
 /unceen-x-synthetic-love-x-nonchalance-with-justin-jay-dj-sportschuh-montez
 uma-live/
URL:https://www.theclubmap.com/events/unceen-x-synthetic-love-x-nonchalance-with-justin-jay-dj-sportschuh-montezuma-live/
END:VEVENT
END:VCALENDAR