BEGIN:VCALENDAR
VERSION:2.0
PRODID:-//eventon.com NONSGML v1.0//EN
CALSCALE:GREGORIAN
METHOD:PUBLISH
BEGIN:VEVENT
UID:69eb228a5c7c6
DTSTAMP:20260424T075802Z
DTSTART:20260424T170000Z
DTEND:20260425T050000Z
LOCATION:Gängeviertel | HAMBURG
SUMMARY:OUR BODIES OUR PARTIES
DESCRIPTION:Carluschka Taisy Carl Bergé Chiki G DJ GRASHÜPFER Unfug Abla 
 Bandulera L.A.tifa\nhttps://www.theclubmap.com/events/our-bodies-our-partie
 s/
URL:https://www.theclubmap.com/events/our-bodies-our-parties/
END:VEVENT
END:VCALENDAR