BEGIN:VCALENDAR
VERSION:2.0
PRODID:-//eventon.com NONSGML v1.0//EN
CALSCALE:GREGORIAN
METHOD:PUBLISH
BEGIN:VEVENT
UID:69e8ac057aae7
DTSTAMP:20260422T110749Z
DTSTART:20260424T210000Z
DTEND:20260425T040000Z
LOCATION:Fundbureau | HAMBURG
SUMMARY:BabaBass3000
DESCRIPTION:BabaBass3000 DJ Sweet And Sour consetanze B2B Ayomayo  DORUM\
 nhttps://www.theclubmap.com/events/bababass3000/
URL:https://www.theclubmap.com/events/bababass3000/
END:VEVENT
END:VCALENDAR