BEGIN:VCALENDAR
VERSION:2.0
PRODID:-//eventon.com NONSGML v1.0//EN
CALSCALE:GREGORIAN
METHOD:PUBLISH
BEGIN:VEVENT
UID:69e8ac56c40be
DTSTAMP:20260422T110910Z
DTSTART:20260424T200000Z
DTEND:20260425T040000Z
LOCATION:Slot | HAMBURG
SUMMARY:GRIM
DESCRIPTION:Abo Abo  Custom CSS No Service (aka Service Manual) moodus\nht
 tps://www.theclubmap.com/events/grim/
URL:https://www.theclubmap.com/events/grim/
END:VEVENT
END:VCALENDAR