BEGIN:VCALENDAR
VERSION:2.0
PRODID:-//eventon.com NONSGML v1.0//EN
CALSCALE:GREGORIAN
METHOD:PUBLISH
BEGIN:VEVENT
UID:69e8ad9bb98d4
DTSTAMP:20260422T111435Z
DTSTART:20260424T180000Z
DTEND:20260424T200000Z
LOCATION:Fundbureau | HAMBURG
SUMMARY:DJ WORKSHOP - BabaBass3000
DESCRIPTION:BabaBass3000\nhttps://www.theclubmap.com/events/dj-workshop-bab
 abass3000/
URL:https://www.theclubmap.com/events/dj-workshop-bababass3000/
END:VEVENT
END:VCALENDAR