BEGIN:VCALENDAR
VERSION:2.0
PRODID:-//eventon.com NONSGML v1.0//EN
CALSCALE:GREGORIAN
METHOD:PUBLISH
BEGIN:VEVENT
UID:69e8ad5d777e9
DTSTAMP:20260422T111333Z
DTSTART:20260424T200000Z
DTEND:20260425T040000Z
LOCATION:Golden Pudel | HAMBURG
SUMMARY:Aroma
DESCRIPTION:Picasso  Fin Egan\nhttps://www.theclubmap.com/events/aroma/
URL:https://www.theclubmap.com/events/aroma/
END:VEVENT
END:VCALENDAR