BEGIN:VCALENDAR
VERSION:2.0
PRODID:-//eventon.com NONSGML v1.0//EN
CALSCALE:GREGORIAN
METHOD:PUBLISH
BEGIN:VEVENT
UID:69e8ace4c4804
DTSTAMP:20260422T111132Z
DTSTART:20260424T190000Z
DTEND:20260424T230000Z
LOCATION:Lilli Escher | HAMBURG
SUMMARY:Elia Haze
DESCRIPTION:EliaHaze\nhttps://www.theclubmap.com/events/elia-haze/
URL:https://www.theclubmap.com/events/elia-haze/
END:VEVENT
END:VCALENDAR