BEGIN:VCALENDAR
VERSION:2.0
PRODID:-//eventon.com NONSGML v1.0//EN
CALSCALE:GREGORIAN
METHOD:PUBLISH
BEGIN:VEVENT
UID:69e8adb604449
DTSTAMP:20260422T111502Z
DTSTART:20260424T170000Z
DTEND:20260424T180000Z
LOCATION:Kampnagel | HAMBURG
SUMMARY:EMMA FRANKLAND No Apologies – Solo-Version
DESCRIPTION:Emma Frankland\nhttps://www.theclubmap.com/events/emma-franklan
 d-no-apologies-solo-version/
URL:https://www.theclubmap.com/events/emma-frankland-no-apologies-solo-version/
END:VEVENT
END:VCALENDAR