BEGIN:VCALENDAR
VERSION:2.0
PRODID:-//eventon.com NONSGML v1.0//EN
CALSCALE:GREGORIAN
METHOD:PUBLISH
BEGIN:VEVENT
UID:69e8ad7d2bb24
DTSTAMP:20260422T111405Z
DTSTART:20260424T193000Z
DTEND:20260425T010000Z
LOCATION:Haus73 | HAMBURG
SUMMARY:El Treibhaus #5
DESCRIPTION:gRoUpErSoUp Nappy G tymr\nhttps://www.theclubmap.com/events/el-
 treibhaus-5/
URL:https://www.theclubmap.com/events/el-treibhaus-5/
END:VEVENT
END:VCALENDAR