BEGIN:VCALENDAR
VERSION:2.0
PRODID:-//eventon.com NONSGML v1.0//EN
CALSCALE:GREGORIAN
METHOD:PUBLISH
BEGIN:VEVENT
UID:69e8acfa99b86
DTSTAMP:20260422T111154Z
DTSTART:20260424T210000Z
DTEND:20260425T060000Z
LOCATION:Club Frau Holle | HAMBURG
SUMMARY:OPEN DECKS FRIDAY
DESCRIPTION:TBA\nhttps://www.theclubmap.com/events/open-decks-friday-2/
URL:https://www.theclubmap.com/events/open-decks-friday-2/
END:VEVENT
END:VCALENDAR