BEGIN:VCALENDAR
VERSION:2.0
PRODID:-//eventon.com NONSGML v1.0//EN
CALSCALE:GREGORIAN
METHOD:PUBLISH
BEGIN:VEVENT
UID:69e8ac92e9ee8
DTSTAMP:20260422T111010Z
DTSTART:20260424T200000Z
DTEND:20260425T020000Z
LOCATION:Kampnagel | HAMBURG
SUMMARY:TRANSTRONICA 2026 Transmissions
DESCRIPTION:Transtronica Rhythms 22.00 Uhr JNNRHNDRXX (live concert) 23.00 
 Uhr Kinari (live concert) 0.00 Uhr CHIVARI (DJ set) 01.30 Uhr aiel (DJ set)
  03.00 Uhr Hausvrau (DJ set)\nhttps://www.theclubmap.com/events/transtronic
 a-2026-transmissions/
URL:https://www.theclubmap.com/events/transtronica-2026-transmissions/
END:VEVENT
END:VCALENDAR