BEGIN:VCALENDAR
VERSION:2.0
PRODID:-//eventon.com NONSGML v1.0//EN
CALSCALE:GREGORIAN
METHOD:PUBLISH
BEGIN:VEVENT
UID:69e8ac92e884e
DTSTAMP:20260422T111010Z
DTSTART:20260424T210000Z
DTEND:20260425T040000Z
LOCATION:YOTO Hamburg
SUMMARY:YOTO x PRIME TIME with MOCUTZ & NA.CHO
DESCRIPTION:MOCUTZ NA.CHO\nhttps://www.theclubmap.com/events/yoto-x-prime-t
 ime-with-mocutz-na-cho/
URL:https://www.theclubmap.com/events/yoto-x-prime-time-with-mocutz-na-cho/
END:VEVENT
END:VCALENDAR