BEGIN:VCALENDAR
VERSION:2.0
PRODID:-//eventon.com NONSGML v1.0//EN
CALSCALE:GREGORIAN
METHOD:PUBLISH
BEGIN:VEVENT
UID:69e8ace9f1dd8
DTSTAMP:20260422T111137Z
DTSTART:20260425T210000Z
DTEND:20260426T060000Z
LOCATION:Baalsaal | HAMBURG
SUMMARY:STCTRS w Vinicius Honorio (UK)\,  Elvin (Berlin)\,  RØØB
DESCRIPTION:Vinicius Honorio Elvin ROOB\nhttps://www.theclubmap.com/events/
 stctrs-w-vinicius-honorio-uk-elvin-berlin-roob/
URL:https://www.theclubmap.com/events/stctrs-w-vinicius-honorio-uk-elvin-berlin-roob/
END:VEVENT
END:VCALENDAR