BEGIN:VCALENDAR
VERSION:2.0
PRODID:-//eventon.com NONSGML v1.0//EN
CALSCALE:GREGORIAN
METHOD:PUBLISH
BEGIN:VEVENT
UID:69eb229a7effe
DTSTAMP:20260424T075818Z
DTSTART:20260425T130000Z
DTEND:20260425T215900Z
LOCATION:Café Schöne Aussichten (CSA) | HAMBURG
SUMMARY:Café Soda with Saoirse\,  Tai Lokun\,  Najeh b2b Ben Evers & FritZ
DESCRIPTION:FritZ Najeh b2b Ben Evers Saoirse Tai Lokun\nhttps://www.theclu
 bmap.com/events/cafe-soda-with-saoirse-tai-lokun-najeh-b2b-ben-evers-fritz/
URL:https://www.theclubmap.com/events/cafe-soda-with-saoirse-tai-lokun-najeh-b2b-ben-evers-fritz/
END:VEVENT
END:VCALENDAR